BEGIN:VCALENDAR
VERSION:2.0
PRODID:-//Cornwall RFU - ECPv6.15.13//NONSGML v1.0//EN
CALSCALE:GREGORIAN
METHOD:PUBLISH
X-WR-CALNAME:Cornwall RFU
X-ORIGINAL-URL:https://www.crfu.co.uk
X-WR-CALDESC:Events for Cornwall RFU
REFRESH-INTERVAL;VALUE=DURATION:PT1H
X-Robots-Tag:noindex
X-PUBLISHED-TTL:PT1H
BEGIN:VTIMEZONE
TZID:Europe/London
BEGIN:DAYLIGHT
TZOFFSETFROM:+0000
TZOFFSETTO:+0100
TZNAME:BST
DTSTART:20190331T010000
END:DAYLIGHT
BEGIN:STANDARD
TZOFFSETFROM:+0100
TZOFFSETTO:+0000
TZNAME:GMT
DTSTART:20191027T010000
END:STANDARD
BEGIN:DAYLIGHT
TZOFFSETFROM:+0000
TZOFFSETTO:+0100
TZNAME:BST
DTSTART:20200329T010000
END:DAYLIGHT
BEGIN:STANDARD
TZOFFSETFROM:+0100
TZOFFSETTO:+0000
TZNAME:GMT
DTSTART:20201025T010000
END:STANDARD
BEGIN:DAYLIGHT
TZOFFSETFROM:+0000
TZOFFSETTO:+0100
TZNAME:BST
DTSTART:20210328T010000
END:DAYLIGHT
BEGIN:STANDARD
TZOFFSETFROM:+0100
TZOFFSETTO:+0000
TZNAME:GMT
DTSTART:20211031T010000
END:STANDARD
BEGIN:DAYLIGHT
TZOFFSETFROM:+0000
TZOFFSETTO:+0100
TZNAME:BST
DTSTART:20220327T010000
END:DAYLIGHT
BEGIN:STANDARD
TZOFFSETFROM:+0100
TZOFFSETTO:+0000
TZNAME:GMT
DTSTART:20221030T010000
END:STANDARD
BEGIN:DAYLIGHT
TZOFFSETFROM:+0000
TZOFFSETTO:+0100
TZNAME:BST
DTSTART:20230326T010000
END:DAYLIGHT
BEGIN:STANDARD
TZOFFSETFROM:+0100
TZOFFSETTO:+0000
TZNAME:GMT
DTSTART:20231029T010000
END:STANDARD
BEGIN:DAYLIGHT
TZOFFSETFROM:+0000
TZOFFSETTO:+0100
TZNAME:BST
DTSTART:20240331T010000
END:DAYLIGHT
BEGIN:STANDARD
TZOFFSETFROM:+0100
TZOFFSETTO:+0000
TZNAME:GMT
DTSTART:20241027T010000
END:STANDARD
BEGIN:DAYLIGHT
TZOFFSETFROM:+0000
TZOFFSETTO:+0100
TZNAME:BST
DTSTART:20250330T010000
END:DAYLIGHT
BEGIN:STANDARD
TZOFFSETFROM:+0100
TZOFFSETTO:+0000
TZNAME:GMT
DTSTART:20251026T010000
END:STANDARD
BEGIN:DAYLIGHT
TZOFFSETFROM:+0000
TZOFFSETTO:+0100
TZNAME:BST
DTSTART:20260329T010000
END:DAYLIGHT
BEGIN:STANDARD
TZOFFSETFROM:+0100
TZOFFSETTO:+0000
TZNAME:GMT
DTSTART:20261025T010000
END:STANDARD
END:VTIMEZONE
BEGIN:VEVENT
DTSTART;TZID=Europe/London:20250531T150000
DTEND;TZID=Europe/London:20250531T170000
DTSTAMP:20260420T122538
CREATED:20241205T144455Z
LAST-MODIFIED:20241205T144617Z
UID:9641-1748703600-1748710800@www.crfu.co.uk
SUMMARY:Bill Beaumont Cup
DESCRIPTION:Hampshire v Cornwall \nVenue & Kick-off time to be advised
URL:https://www.crfu.co.uk/event/bill-beaumont-cup-2/
CATEGORIES:Bill Beaumont Championship Cup
ATTACH;FMTTYPE=image/jpeg:https://www.crfu.co.uk/wp-content/uploads/2024/06/Cornwall_v_Hampshire_010624_025-scaled.jpg
END:VEVENT
BEGIN:VEVENT
DTSTART;TZID=Europe/London:20250524T150000
DTEND;TZID=Europe/London:20250524T170000
DTSTAMP:20260420T122538
CREATED:20241205T144038Z
LAST-MODIFIED:20241205T144038Z
UID:9638-1748098800-1748106000@www.crfu.co.uk
SUMMARY:Bill Beaumont Cup
DESCRIPTION:Cornwall v Kent \nVenue & Kick-off time to be confirmed
URL:https://www.crfu.co.uk/event/bill-beaumont-cup/
CATEGORIES:Bill Beaumont Championship Cup
ATTACH;FMTTYPE=image/jpeg:https://www.crfu.co.uk/wp-content/uploads/2019/11/IMG_7651.jpg
END:VEVENT
BEGIN:VEVENT
DTSTART;TZID=Europe/London:20240601T150000
DTEND;TZID=Europe/London:20240601T170000
DTSTAMP:20260420T122538
CREATED:20240125T121527Z
LAST-MODIFIED:20240502T103834Z
UID:8314-1717254000-1717261200@www.crfu.co.uk
SUMMARY:Bill Beaumont Division 1
DESCRIPTION:Cornwall v Hampshire\, @ Redruth RFC 3 pm
URL:https://www.crfu.co.uk/event/bill-beaumont-division-1/
LOCATION:Redruth RFC\, The Recreation Ground\, Lower Cardrew Lane\, Redruth\, Cornwall\, TR15 1SY\, United Kingdom
CATEGORIES:Bill Beaumont Championship Cup
END:VEVENT
BEGIN:VEVENT
DTSTART;TZID=Europe/London:20240525T140000
DTEND;TZID=Europe/London:20240525T163000
DTSTAMP:20260420T122538
CREATED:20240125T121027Z
LAST-MODIFIED:20240211T110548Z
UID:8309-1716645600-1716654600@www.crfu.co.uk
SUMMARY:Bill Beaumont Cup Division 1
DESCRIPTION:Kent v Cornwall @ Charlton Park RFC\, kick-off 2 pm
URL:https://www.crfu.co.uk/event/bill-beaumont-cup-division-1-2/
LOCATION:Charton Park RFC\, 60 A Broad Walk\, London\, Kent\, SE3 8NB\, United Kingdom
CATEGORIES:Bill Beaumont Championship Cup
END:VEVENT
BEGIN:VEVENT
DTSTART;TZID=Europe/London:20240518T140000
DTEND;TZID=Europe/London:20240518T170000
DTSTAMP:20260420T122538
CREATED:20240125T120407Z
LAST-MODIFIED:20240416T190725Z
UID:8303-1716040800-1716051600@www.crfu.co.uk
SUMMARY:Bill Beaumont Cup Division 1
DESCRIPTION:Surrey v Cornwall @ Esher RFC 2 pm \nGround entry £10.
URL:https://www.crfu.co.uk/event/bill-beaumont-cup-division-1/
LOCATION:Esher RFC\, 369 Molesley Road\, Walton-on-Thames\, Surrey\, KT12 3PF\, United Kingdom
CATEGORIES:Bill Beaumont Championship Cup
END:VEVENT
BEGIN:VEVENT
DTSTART;TZID=Europe/London:20230520T140000
DTEND;TZID=Europe/London:20230520T170000
DTSTAMP:20260420T122538
CREATED:20221028T130957Z
LAST-MODIFIED:20230429T102638Z
UID:6429-1684591200-1684602000@www.crfu.co.uk
SUMMARY:Cornwall v Kent
DESCRIPTION:Bill Beaumont Division 1 \nCornwall v Kent \n@ Camborne RFC 2 pm
URL:https://www.crfu.co.uk/event/cornwall-v-kent/
LOCATION:Camborne RFC\, The Clubhouse\, Crane Park\, Cranberry Road\, Camborne\, Cornwall\, TR14 7PW\, United Kingdom
CATEGORIES:Bill Beaumont Championship Cup
END:VEVENT
BEGIN:VEVENT
DTSTART;TZID=Europe/London:20230513T150000
DTEND;TZID=Europe/London:20230513T170000
DTSTAMP:20260420T122538
CREATED:20221028T130732Z
LAST-MODIFIED:20230201T165417Z
UID:6426-1683990000-1683997200@www.crfu.co.uk
SUMMARY:Hampshire v Cornwall
DESCRIPTION:Bill Beaumont Cup Division 1 \nHampshire v Cornwall \n@ Havant RFC 3 pm
URL:https://www.crfu.co.uk/event/hampshire-v-cornwall/
LOCATION:Havant RFC\, Havant\, PO9 3EJ\, United Kingdom
CATEGORIES:Bill Beaumont Championship Cup
END:VEVENT
BEGIN:VEVENT
DTSTART;TZID=Europe/London:20230506T150000
DTEND;TZID=Europe/London:20230506T170000
DTSTAMP:20260420T122538
CREATED:20221028T125947Z
LAST-MODIFIED:20230201T165805Z
UID:6422-1683385200-1683392400@www.crfu.co.uk
SUMMARY:Cornwall v Somerset
DESCRIPTION:Bill Beaumont Cup Division 1 \nCornwall v Somerset \n@ Redruth RFC 3 pm.
URL:https://www.crfu.co.uk/event/cornwall-v-somerset/
LOCATION:Redruth RFC\, The Recreation Ground\, Lower Cardrew Lane\, Redruth\, Cornwall\, TR15 1SY\, United Kingdom
CATEGORIES:Bill Beaumont Championship Cup
END:VEVENT
BEGIN:VEVENT
DTSTART;TZID=Europe/London:20220604T103000
DTEND;TZID=Europe/London:20220604T170000
DTSTAMP:20260420T122538
CREATED:20220521T192707Z
LAST-MODIFIED:20220523T134737Z
UID:5807-1654338600-1654362000@www.crfu.co.uk
SUMMARY:Bill Beaumont & Gill Burns Cup Finals
DESCRIPTION:Bill Beaumont Cup Final \nCORNWALL v CHESHIRE 3 pm \nGill Burns Cup Division 3 Final \nCORNWALL WOMEN v NOTTS\, LINCS\, DERBYSHIRE WOMEN 2:15 pm @ Richmond Athletic Ground
URL:https://www.crfu.co.uk/event/bill-beaumont-gill-burns-cup-finals/
LOCATION:Twickenham\, 200 Whitton Rd\, Twickenham\, Middlesex\, TW2 7BA\, United Kingdom
CATEGORIES:Bill Beaumont Championship Cup
END:VEVENT
BEGIN:VEVENT
DTSTART;TZID=Europe/London:20220521T150000
DTEND;TZID=Europe/London:20220521T170000
DTSTAMP:20260420T122538
CREATED:20220116T163553Z
LAST-MODIFIED:20220321T130207Z
UID:4847-1653145200-1653152400@www.crfu.co.uk
SUMMARY:Bill Beaumont Cup Hertfordshire v Cornwall
DESCRIPTION:Hertfordshire v Cornwall @ Hertford RFC 3 pm
URL:https://www.crfu.co.uk/event/bill-beaumont-cup-hertfordshire-v-cornwall/
LOCATION:Hertford RFC\, SG12 9NZ\, United Kingdom
CATEGORIES:Bill Beaumont Championship Cup
END:VEVENT
BEGIN:VEVENT
DTSTART;TZID=Europe/London:20220514T150000
DTEND;TZID=Europe/London:20220514T170000
DTSTAMP:20260420T122538
CREATED:20220116T163349Z
LAST-MODIFIED:20220116T163349Z
UID:4845-1652540400-1652547600@www.crfu.co.uk
SUMMARY:Bill Beaumont Cup Cornwall v Hampshire
DESCRIPTION:Cornwall v Hampshire
URL:https://www.crfu.co.uk/event/bill-beaumont-cup-cornwall-v-hampshire/
CATEGORIES:Bill Beaumont Championship Cup
END:VEVENT
BEGIN:VEVENT
DTSTART;TZID=Europe/London:20200530T090000
DTEND;TZID=Europe/London:20200530T170000
DTSTAMP:20260420T122538
CREATED:20200409T093128Z
LAST-MODIFIED:20200414T160818Z
UID:2488-1590829200-1590858000@www.crfu.co.uk
SUMMARY:Bill Beaumont Championship Cup Final
DESCRIPTION:
URL:https://www.crfu.co.uk/event/bill-beaumont-championship-cup-final/
LOCATION:Twickenham\, 200 Whitton Rd\, Twickenham\, Middlesex\, TW2 7BA\, United Kingdom
CATEGORIES:Bill Beaumont Championship Cup
END:VEVENT
BEGIN:VEVENT
DTSTART;TZID=Europe/London:20200523T150000
DTEND;TZID=Europe/London:20200523T170000
DTSTAMP:20260420T122538
CREATED:20200409T093024Z
LAST-MODIFIED:20200417T134856Z
UID:2484-1590246000-1590253200@www.crfu.co.uk
SUMMARY:Devon RFC. Bill Beaumont Championship Cup
DESCRIPTION:
URL:https://www.crfu.co.uk/event/devon-rfc-bill-beaumont-championship-cup/
LOCATION:Redruth RFC\, The Recreation Ground\, Lower Cardrew Lane\, Redruth\, Cornwall\, TR15 1SY\, United Kingdom
CATEGORIES:Bill Beaumont Championship Cup
END:VEVENT
BEGIN:VEVENT
DTSTART;TZID=Europe/London:20200520T150000
DTEND;TZID=Europe/London:20200520T170000
DTSTAMP:20260420T122538
CREATED:20200409T092823Z
LAST-MODIFIED:20200409T093523Z
UID:2476-1589986800-1589994000@www.crfu.co.uk
SUMMARY:Kent RFU. Bill Beaumont Championship Cup
DESCRIPTION:
URL:https://www.crfu.co.uk/event/kent-rfu-bill-beaumont-championship-cup/
LOCATION:Camborne RFC\, The Clubhouse\, Crane Park\, Cranberry Road\, Camborne\, Cornwall\, TR14 7PW\, United Kingdom
CATEGORIES:Bill Beaumont Championship Cup
END:VEVENT
BEGIN:VEVENT
DTSTART;TZID=Europe/London:20200516T150000
DTEND;TZID=Europe/London:20200516T170000
DTSTAMP:20260420T122538
CREATED:20200409T092925Z
LAST-MODIFIED:20200409T093533Z
UID:2480-1589641200-1589648400@www.crfu.co.uk
SUMMARY:Hertfordshire RFU. Bill Beaumont Championship Cup
DESCRIPTION:
URL:https://www.crfu.co.uk/event/hertfordshire-rfu-bill-beaumont-championship-cup/
CATEGORIES:Bill Beaumont Championship Cup
END:VEVENT
END:VCALENDAR