BEGIN:VCALENDAR
VERSION:2.0
PRODID:-//Cornwall RFU - ECPv6.15.13//NONSGML v1.0//EN
CALSCALE:GREGORIAN
METHOD:PUBLISH
X-WR-CALNAME:Cornwall RFU
X-ORIGINAL-URL:https://www.crfu.co.uk
X-WR-CALDESC:Events for Cornwall RFU
REFRESH-INTERVAL;VALUE=DURATION:PT1H
X-Robots-Tag:noindex
X-PUBLISHED-TTL:PT1H
BEGIN:VTIMEZONE
TZID:Europe/London
BEGIN:DAYLIGHT
TZOFFSETFROM:+0000
TZOFFSETTO:+0100
TZNAME:BST
DTSTART:20210328T010000
END:DAYLIGHT
BEGIN:STANDARD
TZOFFSETFROM:+0100
TZOFFSETTO:+0000
TZNAME:GMT
DTSTART:20211031T010000
END:STANDARD
BEGIN:DAYLIGHT
TZOFFSETFROM:+0000
TZOFFSETTO:+0100
TZNAME:BST
DTSTART:20220327T010000
END:DAYLIGHT
BEGIN:STANDARD
TZOFFSETFROM:+0100
TZOFFSETTO:+0000
TZNAME:GMT
DTSTART:20221030T010000
END:STANDARD
BEGIN:DAYLIGHT
TZOFFSETFROM:+0000
TZOFFSETTO:+0100
TZNAME:BST
DTSTART:20230326T010000
END:DAYLIGHT
BEGIN:STANDARD
TZOFFSETFROM:+0100
TZOFFSETTO:+0000
TZNAME:GMT
DTSTART:20231029T010000
END:STANDARD
BEGIN:DAYLIGHT
TZOFFSETFROM:+0000
TZOFFSETTO:+0100
TZNAME:BST
DTSTART:20240331T010000
END:DAYLIGHT
BEGIN:STANDARD
TZOFFSETFROM:+0100
TZOFFSETTO:+0000
TZNAME:GMT
DTSTART:20241027T010000
END:STANDARD
BEGIN:DAYLIGHT
TZOFFSETFROM:+0000
TZOFFSETTO:+0100
TZNAME:BST
DTSTART:20250330T010000
END:DAYLIGHT
BEGIN:STANDARD
TZOFFSETFROM:+0100
TZOFFSETTO:+0000
TZNAME:GMT
DTSTART:20251026T010000
END:STANDARD
END:VTIMEZONE
BEGIN:VEVENT
DTSTART;VALUE=DATE:20240427
DTEND;VALUE=DATE:20240428
DTSTAMP:20260420T142300
CREATED:20240226T151334Z
LAST-MODIFIED:20240312T164344Z
UID:8558-1714176000-1714262399@www.crfu.co.uk
SUMMARY:Duchy Cup Finals
DESCRIPTION:4 Finals to be confirmed
URL:https://www.crfu.co.uk/event/duchy-cup-finals/
CATEGORIES:Duchy Cup
END:VEVENT
BEGIN:VEVENT
DTSTART;TZID=Europe/London:20230422T110000
DTEND;TZID=Europe/London:20230422T200000
DTSTAMP:20260420T142300
CREATED:20230215T104135Z
LAST-MODIFIED:20230418T105329Z
UID:6854-1682161200-1682193600@www.crfu.co.uk
SUMMARY:CRFU Duchy Cup Finals Day
DESCRIPTION:Programme of matches see above. \nVenue Falmouth RFC \nEntry on gate £5\, under 16 free.
URL:https://www.crfu.co.uk/event/crfu-duchy-cup-finals-day-2/
LOCATION:Falmouth RFC\, The Recreation Ground\, Dracaena Ave\, Falmouth\, Cornwall\, TR11 2FB\, United Kingdom
CATEGORIES:CRFU,Duchy Cup
END:VEVENT
BEGIN:VEVENT
DTSTART;TZID=Europe/London:20220423T123000
DTEND;TZID=Europe/London:20220423T170000
DTSTAMP:20260420T142300
CREATED:20220125T171618Z
LAST-MODIFIED:20220422T140435Z
UID:4935-1650717000-1650733200@www.crfu.co.uk
SUMMARY:CRFU Duchy Cup Finals Day
DESCRIPTION:Finals to be played on a neutral ground on Saturday 23rd. April. With Vase at 12:30 pm Plate ko at 2.30 pm and the Cup final at 4.30 pm. Venue Hayle RFC. Free entry\, club collection via bucket. Refreshments available. \nVase – Pirates Ams II v Bodmin II \nPlate – Launceston II v Bude II \nCup – Redruth II v St. Austell Sinners
URL:https://www.crfu.co.uk/event/crfu-duchy-cup-finals-day/
LOCATION:Hayle RFC\, Memorial Park\, Marsh Ln\, Hayle\, Cornwall\, TR27 4PS\, United Kingdom
CATEGORIES:Duchy Cup
END:VEVENT
END:VCALENDAR