BEGIN:VCALENDAR
VERSION:2.0
PRODID:-//Cornwall RFU - ECPv6.15.13//NONSGML v1.0//EN
CALSCALE:GREGORIAN
METHOD:PUBLISH
X-WR-CALNAME:Cornwall RFU
X-ORIGINAL-URL:https://www.crfu.co.uk
X-WR-CALDESC:Events for Cornwall RFU
REFRESH-INTERVAL;VALUE=DURATION:PT1H
X-Robots-Tag:noindex
X-PUBLISHED-TTL:PT1H
BEGIN:VTIMEZONE
TZID:Europe/London
BEGIN:DAYLIGHT
TZOFFSETFROM:+0000
TZOFFSETTO:+0100
TZNAME:BST
DTSTART:20220327T010000
END:DAYLIGHT
BEGIN:STANDARD
TZOFFSETFROM:+0100
TZOFFSETTO:+0000
TZNAME:GMT
DTSTART:20221030T010000
END:STANDARD
BEGIN:DAYLIGHT
TZOFFSETFROM:+0000
TZOFFSETTO:+0100
TZNAME:BST
DTSTART:20230326T010000
END:DAYLIGHT
BEGIN:STANDARD
TZOFFSETFROM:+0100
TZOFFSETTO:+0000
TZNAME:GMT
DTSTART:20231029T010000
END:STANDARD
BEGIN:DAYLIGHT
TZOFFSETFROM:+0000
TZOFFSETTO:+0100
TZNAME:BST
DTSTART:20240331T010000
END:DAYLIGHT
BEGIN:STANDARD
TZOFFSETFROM:+0100
TZOFFSETTO:+0000
TZNAME:GMT
DTSTART:20241027T010000
END:STANDARD
END:VTIMEZONE
BEGIN:VEVENT
DTSTART;TZID=Europe/London:20230429T123000
DTEND;TZID=Europe/London:20230429T170000
DTSTAMP:20260423T071901
CREATED:20230215T103757Z
LAST-MODIFIED:20230424T134618Z
UID:6852-1682771400-1682787600@www.crfu.co.uk
SUMMARY:Tribute Cornwall Clubs Cup & Plate Finals Day
DESCRIPTION:Programme of matches; \nPlate Final \nNewquay Hornets v Illogan Park 1 pm \nClubs Cup Final \nSaltash v Perranporth 3 pm \nVenue Molesworth Field\, Wadebridge Camels RFC
URL:https://www.crfu.co.uk/event/tribute-cornwall-senior-cup-clubs-cup-finals-day/
LOCATION:Wadebridge Camels RFC\, Egloshayle\, Wadebridge\, Cornwall\, PL27 6AQ
CATEGORIES:CRFU,St Austell Tribute Cup
END:VEVENT
END:VCALENDAR