BEGIN:VCALENDAR
VERSION:2.0
PRODID:-//Cornwall RFU - ECPv6.15.13//NONSGML v1.0//EN
CALSCALE:GREGORIAN
METHOD:PUBLISH
X-WR-CALNAME:Cornwall RFU
X-ORIGINAL-URL:https://www.crfu.co.uk
X-WR-CALDESC:Events for Cornwall RFU
REFRESH-INTERVAL;VALUE=DURATION:PT1H
X-Robots-Tag:noindex
X-PUBLISHED-TTL:PT1H
BEGIN:VTIMEZONE
TZID:Europe/London
BEGIN:DAYLIGHT
TZOFFSETFROM:+0000
TZOFFSETTO:+0100
TZNAME:BST
DTSTART:20220327T010000
END:DAYLIGHT
BEGIN:STANDARD
TZOFFSETFROM:+0100
TZOFFSETTO:+0000
TZNAME:GMT
DTSTART:20221030T010000
END:STANDARD
BEGIN:DAYLIGHT
TZOFFSETFROM:+0000
TZOFFSETTO:+0100
TZNAME:BST
DTSTART:20230326T010000
END:DAYLIGHT
BEGIN:STANDARD
TZOFFSETFROM:+0100
TZOFFSETTO:+0000
TZNAME:GMT
DTSTART:20231029T010000
END:STANDARD
BEGIN:DAYLIGHT
TZOFFSETFROM:+0000
TZOFFSETTO:+0100
TZNAME:BST
DTSTART:20240331T010000
END:DAYLIGHT
BEGIN:STANDARD
TZOFFSETFROM:+0100
TZOFFSETTO:+0000
TZNAME:GMT
DTSTART:20241027T010000
END:STANDARD
END:VTIMEZONE
BEGIN:VEVENT
DTSTART;TZID=Europe/London:20230826T140000
DTEND;TZID=Europe/London:20230826T170000
DTSTAMP:20260423T004733
CREATED:20230512T105653Z
LAST-MODIFIED:20230512T105653Z
UID:7425-1693058400-1693069200@www.crfu.co.uk
SUMMARY:Tribute Cornwall Cup Final
DESCRIPTION:Truro v St. Austell \nOn Saturday 26th August\, kick-off tba \nFurther details tba
URL:https://www.crfu.co.uk/event/tribute-cornwall-cup-final/
LOCATION:Truro RFC\, St. Clement's Hill\, Truro\, Cornwall\, TR1 1NY\, United Kingdom
CATEGORIES:St Austell Tribute Cup
END:VEVENT
END:VCALENDAR