BEGIN:VCALENDAR
VERSION:2.0
PRODID:-//Cornwall RFU - ECPv6.15.13//NONSGML v1.0//EN
CALSCALE:GREGORIAN
METHOD:PUBLISH
X-ORIGINAL-URL:https://www.crfu.co.uk
X-WR-CALDESC:Events for Cornwall RFU
REFRESH-INTERVAL;VALUE=DURATION:PT1H
X-Robots-Tag:noindex
X-PUBLISHED-TTL:PT1H
BEGIN:VTIMEZONE
TZID:Europe/London
BEGIN:DAYLIGHT
TZOFFSETFROM:+0000
TZOFFSETTO:+0100
TZNAME:BST
DTSTART:20190331T010000
END:DAYLIGHT
BEGIN:STANDARD
TZOFFSETFROM:+0100
TZOFFSETTO:+0000
TZNAME:GMT
DTSTART:20191027T010000
END:STANDARD
BEGIN:DAYLIGHT
TZOFFSETFROM:+0000
TZOFFSETTO:+0100
TZNAME:BST
DTSTART:20200329T010000
END:DAYLIGHT
BEGIN:STANDARD
TZOFFSETFROM:+0100
TZOFFSETTO:+0000
TZNAME:GMT
DTSTART:20201025T010000
END:STANDARD
BEGIN:DAYLIGHT
TZOFFSETFROM:+0000
TZOFFSETTO:+0100
TZNAME:BST
DTSTART:20210328T010000
END:DAYLIGHT
BEGIN:STANDARD
TZOFFSETFROM:+0100
TZOFFSETTO:+0000
TZNAME:GMT
DTSTART:20211031T010000
END:STANDARD
BEGIN:DAYLIGHT
TZOFFSETFROM:+0000
TZOFFSETTO:+0100
TZNAME:BST
DTSTART:20220327T010000
END:DAYLIGHT
BEGIN:STANDARD
TZOFFSETFROM:+0100
TZOFFSETTO:+0000
TZNAME:GMT
DTSTART:20221030T010000
END:STANDARD
BEGIN:DAYLIGHT
TZOFFSETFROM:+0000
TZOFFSETTO:+0100
TZNAME:BST
DTSTART:20230326T010000
END:DAYLIGHT
BEGIN:STANDARD
TZOFFSETFROM:+0100
TZOFFSETTO:+0000
TZNAME:GMT
DTSTART:20231029T010000
END:STANDARD
BEGIN:DAYLIGHT
TZOFFSETFROM:+0000
TZOFFSETTO:+0100
TZNAME:BST
DTSTART:20240331T010000
END:DAYLIGHT
BEGIN:STANDARD
TZOFFSETFROM:+0100
TZOFFSETTO:+0000
TZNAME:GMT
DTSTART:20241027T010000
END:STANDARD
BEGIN:DAYLIGHT
TZOFFSETFROM:+0000
TZOFFSETTO:+0100
TZNAME:BST
DTSTART:20250330T010000
END:DAYLIGHT
BEGIN:STANDARD
TZOFFSETFROM:+0100
TZOFFSETTO:+0000
TZNAME:GMT
DTSTART:20251026T010000
END:STANDARD
END:VTIMEZONE
BEGIN:VEVENT
DTSTART;VALUE=DATE:20240511
DTEND;VALUE=DATE:20240512
DTSTAMP:20260421T035725
CREATED:20240226T151116Z
LAST-MODIFIED:20240502T105115Z
UID:8556-1715385600-1715471999@www.crfu.co.uk
SUMMARY:Tribute Cornwall Clubs Cup Finals
DESCRIPTION:Clubs Cup – Perranporth v Saltash 4 pm \nShield – Bodmin v St. Just 2 pm \nVase – Hayle v Helston 12 pm \n@ Polson Bridge Launceston RC
URL:https://www.crfu.co.uk/event/tribute-cornwall-clubs-cup-finals/
LOCATION:Launceston RFC\, Polson Bridge\, Launceston\, Cornwall\, PL15 9QT\, United Kingdom
CATEGORIES:Tribute Clubs Cup
END:VEVENT
BEGIN:VEVENT
DTSTART;VALUE=DATE:20220416
DTEND;VALUE=DATE:20220417
DTSTAMP:20260421T035725
CREATED:20211115T120259Z
LAST-MODIFIED:20220411T125659Z
UID:4590-1650067200-1650153599@www.crfu.co.uk
SUMMARY:Tribute Cornwall Clubs Cup Finals Day
DESCRIPTION:Finals of the various Tribute Cornwall Clubs Cups \nVenue Redruth RFC; \nTimings for the day  – Vase  match St. Just v Perranporth KO 11:30. \nPlate KO Lankelly-Fowey v St. Ives 2.30pm \nClubs Cup Final Bodmin v Illogan Park on main pitch at 12 Noon
URL:https://www.crfu.co.uk/event/tribute-cornwall-clubs-cup-finals-day/
LOCATION:Redruth RFC\, The Recreation Ground\, Lower Cardrew Lane\, Redruth\, Cornwall\, TR15 1SY\, United Kingdom
CATEGORIES:Tribute Clubs Cup
END:VEVENT
BEGIN:VEVENT
DTSTART;VALUE=DATE:20220403
DTEND;VALUE=DATE:20220404
DTSTAMP:20260421T035725
CREATED:20211115T115903Z
LAST-MODIFIED:20211115T115903Z
UID:4588-1648944000-1649030399@www.crfu.co.uk
SUMMARY:Tribute Cornwall Clubs Cup Semi-finals
DESCRIPTION:Various Tribute Clubs Cup semi-finals to be played by.
URL:https://www.crfu.co.uk/event/tribute-cornwall-clubs-cup-semi-finals/
LOCATION:Cornwall
CATEGORIES:Tribute Clubs Cup
END:VEVENT
BEGIN:VEVENT
DTSTART;TZID=Europe/London:20200420T130000
DTEND;TZID=Europe/London:20200420T150000
DTSTAMP:20260421T035725
CREATED:20200409T092419Z
LAST-MODIFIED:20200409T093817Z
UID:2462-1587387600-1587394800@www.crfu.co.uk
SUMMARY:Tribute Clubs Cup Finals
DESCRIPTION:
URL:https://www.crfu.co.uk/event/tribute-clubs-cup-finals/
LOCATION:Hayle RFC\, Memorial Park\, Marsh Ln\, Hayle\, Cornwall\, TR27 4PS\, United Kingdom
CATEGORIES:Tribute Clubs Cup
END:VEVENT
END:VCALENDAR